BEGIN:VCALENDAR
VERSION:2.0
PRODID:-//Women in Biz Network: Mentoring Women Entrepreneurs &amp; Business Leaders - ECPv6.15.15//NONSGML v1.0//EN
CALSCALE:GREGORIAN
METHOD:PUBLISH
X-WR-CALNAME:Women in Biz Network: Mentoring Women Entrepreneurs &amp; Business Leaders
X-ORIGINAL-URL:https://www.womeninbiznetwork.com
X-WR-CALDESC:Events for Women in Biz Network: Mentoring Women Entrepreneurs &amp; Business Leaders
REFRESH-INTERVAL;VALUE=DURATION:PT1H
X-Robots-Tag:noindex
X-PUBLISHED-TTL:PT1H
BEGIN:VTIMEZONE
TZID:America/Toronto
BEGIN:DAYLIGHT
TZOFFSETFROM:-0500
TZOFFSETTO:-0400
TZNAME:EDT
DTSTART:20230312T070000
END:DAYLIGHT
BEGIN:STANDARD
TZOFFSETFROM:-0400
TZOFFSETTO:-0500
TZNAME:EST
DTSTART:20231105T060000
END:STANDARD
BEGIN:DAYLIGHT
TZOFFSETFROM:-0500
TZOFFSETTO:-0400
TZNAME:EDT
DTSTART:20240310T070000
END:DAYLIGHT
BEGIN:STANDARD
TZOFFSETFROM:-0400
TZOFFSETTO:-0500
TZNAME:EST
DTSTART:20241103T060000
END:STANDARD
BEGIN:DAYLIGHT
TZOFFSETFROM:-0500
TZOFFSETTO:-0400
TZNAME:EDT
DTSTART:20250309T070000
END:DAYLIGHT
BEGIN:STANDARD
TZOFFSETFROM:-0400
TZOFFSETTO:-0500
TZNAME:EST
DTSTART:20251102T060000
END:STANDARD
END:VTIMEZONE
BEGIN:VEVENT
DTSTART;TZID=America/Toronto:20241114T120000
DTEND;TZID=America/Toronto:20241114T133000
DTSTAMP:20260422T080304
CREATED:20241107T152547Z
LAST-MODIFIED:20241109T133620Z
UID:62348-1731585600-1731591000@www.womeninbiznetwork.com
SUMMARY:Event Invitation: Breaking Barriers with Jenn Harper: A Live Conversation on Indigenous Representation\, Scaling Success\, and Sustainable Beauty
DESCRIPTION:  \nJenn Harper\, Cheekbone Beauty\n  \n \nJoin us for an exclusive live event with Jenn Harper\, the visionary founder and CEO of Cheekbone Beauty\, as we celebrate women entrepreneurs making waves in the business world. Jenn Harper is not only a pioneering Indigenous leader in the beauty industry but also a champion for sustainability\, inclusivity\, and social impact. From founding Cheekbone Beauty with a mission to amplify Indigenous voices\, to scaling her brand to major retailers like Sephora and JC Penney\, Jenn’s journey is a testament to the power of purpose-driven entrepreneurship. \nIn this engaging conversation\, Jenn will share her insights on:\n\nThe future of Indigenous representation in the beauty industry and beyond.\nStrategies for scaling a brand with integrity while staying true to core values.\nBuilding a legacy of giving back\, with over $250\,000 donated to Indigenous communities.\nAdvice for aspiring female entrepreneurs on navigating challenges and achieving meaningful success.\n\nWhether you’re an entrepreneur\, a beauty enthusiast\, or someone passionate about social impact\, this is a rare opportunity to learn from one of the most inspiring voices in the industry. \nEvent Details: \nDate: November 14 \nTime: 1 pm EST \nLocation: Zoom (Link will be provided upon registration) \nRegister Now to be part of this powerful conversation and gain insights that could transform your own journey. Plus\, join us in celebrating the resilience\, passion\, and leadership of women making a difference. \n\nWant to attend this event and maximize the opportunity?  \nJoin Women in Biz Network’s ChangeMaker Collective Membership for $0.  Mentorship\, membership perks including discounts and freebies are available to you along with the opportunity to promote your personal brand or business. We invite all ChangeMakers to join.
URL:https://www.womeninbiznetwork.com/event/breakingbarriers/
CATEGORIES:Member Events,Online Events
END:VEVENT
END:VCALENDAR